BEGIN:VCALENDAR
VERSION:2.0
PRODID:-//Squarespace Inc/Squarespace 6//v6//EN
BEGIN:VEVENT
UID:5a24a346f9619ac01b148bb2@squarespace.com
DTSTAMP:20171204T012253Z
DTSTART:20171224T150000Z
DTEND:20171225T163000Z
SUMMARY:Christmas Eve Morning Service
END:VEVENT
END:VCALENDAR
