BEGIN:VCALENDAR
VERSION:2.0
PRODID:-//Squarespace Inc/Squarespace 6//v6//EN
BEGIN:VEVENT
UID:5a24a2d471c10b3508ea332d@squarespace.com
DTSTAMP:20171204T012047Z
DTSTART:20171225T143000Z
DTEND:20171225T153000Z
SUMMARY:Christmas Day Morning Service
END:VEVENT
END:VCALENDAR
